BEGIN:VCALENDAR
VERSION:2.0
PRODID:-//Da Smoke Brovas - ECPv6.15.20//NONSGML v1.0//EN
CALSCALE:GREGORIAN
METHOD:PUBLISH
X-WR-CALNAME:Da Smoke Brovas
X-ORIGINAL-URL:https://www.dasmokebrovasbmore.com
X-WR-CALDESC:Events for Da Smoke Brovas
REFRESH-INTERVAL;VALUE=DURATION:PT1H
X-Robots-Tag:noindex
X-PUBLISHED-TTL:PT1H
BEGIN:VTIMEZONE
TZID:UTC
BEGIN:STANDARD
TZOFFSETFROM:+0000
TZOFFSETTO:+0000
TZNAME:UTC
DTSTART:20250101T000000
END:STANDARD
END:VTIMEZONE
BEGIN:VEVENT
DTSTART;VALUE=DATE:20260912
DTEND;VALUE=DATE:20260913
DTSTAMP:20260423T202136
CREATED:20260330T143543Z
LAST-MODIFIED:20260330T145005Z
UID:4268-1789171200-1789257599@www.dasmokebrovasbmore.com
SUMMARY:Less Than Perfect Event
DESCRIPTION:Sept 12th Less Than Perfect event and meet and greet with SB and BI410 Hawks Pleasure Club
URL:https://www.dasmokebrovasbmore.com/event/less-than-perfect-event/
CATEGORIES:SmokeBrova Events,Upcoming Events
END:VEVENT
BEGIN:VEVENT
DTSTART;VALUE=DATE:20260919
DTEND;VALUE=DATE:20260920
DTSTAMP:20260423T202136
CREATED:20260330T143944Z
LAST-MODIFIED:20260330T145422Z
UID:4270-1789776000-1789862399@www.dasmokebrovasbmore.com
SUMMARY:Bros. of 410 Event
DESCRIPTION:Sept 19th – Brothers of 410 hosting meet and greet with Smokebrovas & Less than Perfect @ Fire and Smoke
URL:https://www.dasmokebrovasbmore.com/event/bros-of-410-event/
CATEGORIES:SmokeBrova Events,Upcoming Events
END:VEVENT
BEGIN:VEVENT
DTSTART;VALUE=DATE:20260926
DTEND;VALUE=DATE:20260927
DTSTAMP:20260423T202136
CREATED:20260330T144213Z
LAST-MODIFIED:20260330T144924Z
UID:4272-1790380800-1790467199@www.dasmokebrovasbmore.com
SUMMARY:Annual Cigar International Bus Trip
DESCRIPTION:Sept 26th – SB joined by BO410 & LTP Annual Cigar International Bus Trip
URL:https://www.dasmokebrovasbmore.com/event/annual-cigar-international-bus-trip/
CATEGORIES:SmokeBrova Events,Upcoming Events
END:VEVENT
BEGIN:VEVENT
DTSTART;VALUE=DATE:20261010
DTEND;VALUE=DATE:20261011
DTSTAMP:20260423T202136
CREATED:20260330T144419Z
LAST-MODIFIED:20260330T144906Z
UID:4274-1791590400-1791676799@www.dasmokebrovasbmore.com
SUMMARY:Smokebrovas 10th Year Anniversary Gala
DESCRIPTION:Oct 10th – SB 10th year anniversary gala
URL:https://www.dasmokebrovasbmore.com/event/smokebrovas-10th-year-anniversary-gala/
CATEGORIES:SmokeBrova Events,Upcoming Events
END:VEVENT
END:VCALENDAR