BEGIN:VCALENDAR
VERSION:2.0
PRODID:-//Da Smoke Brovas - ECPv6.15.20//NONSGML v1.0//EN
CALSCALE:GREGORIAN
METHOD:PUBLISH
X-WR-CALNAME:Da Smoke Brovas
X-ORIGINAL-URL:https://www.dasmokebrovasbmore.com
X-WR-CALDESC:Events for Da Smoke Brovas
REFRESH-INTERVAL;VALUE=DURATION:PT1H
X-Robots-Tag:noindex
X-PUBLISHED-TTL:PT1H
BEGIN:VTIMEZONE
TZID:UTC
BEGIN:STANDARD
TZOFFSETFROM:+0000
TZOFFSETTO:+0000
TZNAME:UTC
DTSTART:20250101T000000
END:STANDARD
END:VTIMEZONE
BEGIN:VEVENT
DTSTART;VALUE=DATE:20260912
DTEND;VALUE=DATE:20260913
DTSTAMP:20260423T214203
CREATED:20260330T143543Z
LAST-MODIFIED:20260330T145005Z
UID:4268-1789171200-1789257599@www.dasmokebrovasbmore.com
SUMMARY:Less Than Perfect Event
DESCRIPTION:Sept 12th Less Than Perfect event and meet and greet with SB and BI410 Hawks Pleasure Club
URL:https://www.dasmokebrovasbmore.com/event/less-than-perfect-event/
CATEGORIES:SmokeBrova Events,Upcoming Events
END:VEVENT
END:VCALENDAR